BEGIN:VCALENDAR
VERSION:2.0
PRODID:-//eventon.com NONSGML v1.0//EN
CALSCALE:GREGORIAN
METHOD:PUBLISH
BEGIN:VEVENT
UID:69e7367f26ab0
DTSTAMP:20260421T083407Z
DTSTART:20250912
DTEND:20250913
LOCATION:India
SUMMARY:CC India Summit – CONVERGENCE 2025
DESCRIPTION:\nhttps://www.whereleadersconnect.com/events/cc-india-summit-co
 nvergence-2025/
URL:https://www.whereleadersconnect.com/events/cc-india-summit-convergence-2025/
END:VEVENT
END:VCALENDAR